BEGIN:VCALENDAR
VERSION:2.0
PRODID:-//Ingenieros Valladolid - ECPv6.2.8.2//NONSGML v1.0//EN
CALSCALE:GREGORIAN
METHOD:PUBLISH
X-WR-CALNAME:Ingenieros Valladolid
X-ORIGINAL-URL:https://www.ingenierosvalladolid.es
X-WR-CALDESC:Eventos para Ingenieros Valladolid
REFRESH-INTERVAL;VALUE=DURATION:PT1H
X-Robots-Tag:noindex
X-PUBLISHED-TTL:PT1H
BEGIN:VTIMEZONE
TZID:Europe/Madrid
BEGIN:DAYLIGHT
TZOFFSETFROM:+0100
TZOFFSETTO:+0200
TZNAME:CEST
DTSTART:20190331T010000
END:DAYLIGHT
BEGIN:STANDARD
TZOFFSETFROM:+0200
TZOFFSETTO:+0100
TZNAME:CET
DTSTART:20191027T010000
END:STANDARD
END:VTIMEZONE
BEGIN:VEVENT
DTSTART;TZID=Europe/Madrid:20190319T113000
DTEND;TZID=Europe/Madrid:20190319T123000
DTSTAMP:20260425T142401
CREATED:20190313T164621Z
LAST-MODIFIED:20190313T164621Z
UID:17358-1552995000-1552998600@www.ingenierosvalladolid.es
SUMMARY:San José: Celebración del patrón
DESCRIPTION:Con motivo de la celebración de San José queremos continuar con la tradición de rendir un homenaje al patrón de los ingenieros. La comisión de veteranos ha organizado una misa el martes 19 de marzo a las 11:30 horas en la Iglesia de los Jesuitas\, en la Capilla San Ignacio\, mismo sitio donde se realizó el pasado año\, situada en la calle Ruiz Hernández. \nAl término de la misa todos los asistentes pueden acudir a tomar un vino en la Casa Galicia\, situada en la plaza de Santa Cruz. Esperamos poder contar con todos vosotros para esta celebración con compañeros\, amigos y familiares.
URL:https://www.ingenierosvalladolid.es/actividad/san-jose-celebracion-del-patron/
ATTACH;FMTTYPE=image/png:https://www.ingenierosvalladolid.es/wp-content/uploads/2019/03/san-jose.png
END:VEVENT
END:VCALENDAR