BEGIN:VCALENDAR
VERSION:2.0
PRODID:-//Ingenieros Valladolid - ECPv6.2.8.2//NONSGML v1.0//EN
CALSCALE:GREGORIAN
METHOD:PUBLISH
X-WR-CALNAME:Ingenieros Valladolid
X-ORIGINAL-URL:https://www.ingenierosvalladolid.es
X-WR-CALDESC:Eventos para Ingenieros Valladolid
REFRESH-INTERVAL;VALUE=DURATION:PT1H
X-Robots-Tag:noindex
X-PUBLISHED-TTL:PT1H
BEGIN:VTIMEZONE
TZID:Europe/Madrid
BEGIN:DAYLIGHT
TZOFFSETFROM:+0100
TZOFFSETTO:+0200
TZNAME:CEST
DTSTART:20260329T010000
END:DAYLIGHT
BEGIN:STANDARD
TZOFFSETFROM:+0200
TZOFFSETTO:+0100
TZNAME:CET
DTSTART:20261025T010000
END:STANDARD
END:VTIMEZONE
BEGIN:VEVENT
DTSTART;TZID=Europe/Madrid:20260429T190000
DTEND;TZID=Europe/Madrid:20260429T210000
DTSTAMP:20260421T154135
CREATED:20260420T062850Z
LAST-MODIFIED:20260420T062850Z
UID:28654-1777489200-1777496400@www.ingenierosvalladolid.es
SUMMARY:Nuestro Decano acompaña a los futuros ingenieros en la entrega de premios de las IV Olimpiadas de Ingenierías Industriales
DESCRIPTION:El próximo miércoles 29 de abril\, a las 19:00 horas\, el Aula Magna de la Escuela de Ingenierías Industriales se vestirá de gala para acoger el acto de entrega de premios de las IV Olimpiadas de Ingenierías Industriales. \nEste evento\, que ya se ha consolidado como una cita ineludible para el fomento de las vocaciones tecnológicas\, contará con la presencia de nuestro Decano Rafael Álvarez Palla.
URL:https://www.ingenierosvalladolid.es/actividad/nuestro-decano-acompana-a-los-futuros-ingenieros-en-la-entrega-de-premios-de-las-iv-olimpiadas-de-ingenierias-industriales/
LOCATION:Salon Actos ingenierosVA\, Calle Divina Pastora\, 1\, 1º\, Valladolid\, España
CATEGORIES:Eventos Ingenieriles
ATTACH;FMTTYPE=image/png:https://www.ingenierosvalladolid.es/wp-content/uploads/2026/01/logo_ingenieros_valladolid_institucional_negativoR.png
END:VEVENT
END:VCALENDAR