BEGIN:VCALENDAR
VERSION:2.0
PRODID:-//Ingenieros Valladolid - ECPv6.2.8.2//NONSGML v1.0//EN
CALSCALE:GREGORIAN
METHOD:PUBLISH
X-WR-CALNAME:Ingenieros Valladolid
X-ORIGINAL-URL:https://www.ingenierosvalladolid.es
X-WR-CALDESC:Eventos para Ingenieros Valladolid
REFRESH-INTERVAL;VALUE=DURATION:PT1H
X-Robots-Tag:noindex
X-PUBLISHED-TTL:PT1H
BEGIN:VTIMEZONE
TZID:Europe/Madrid
BEGIN:DAYLIGHT
TZOFFSETFROM:+0100
TZOFFSETTO:+0200
TZNAME:CEST
DTSTART:20260329T010000
END:DAYLIGHT
BEGIN:STANDARD
TZOFFSETFROM:+0200
TZOFFSETTO:+0100
TZNAME:CET
DTSTART:20261025T010000
END:STANDARD
END:VTIMEZONE
BEGIN:VEVENT
DTSTART;TZID=Europe/Madrid:20260421T170000
DTEND;TZID=Europe/Madrid:20260421T193000
DTSTAMP:20260421T113931
CREATED:20260420T105654Z
LAST-MODIFIED:20260420T105654Z
UID:28660-1776790800-1776799800@www.ingenierosvalladolid.es
SUMMARY:El Colegio\, presente como patrocinador y jurado en la 42ª edición del "Mejor Empresario del Año"
DESCRIPTION:El próximo martes 21 de abril\, nuestro decano\, Rafael Álvarez Palla\, participará en la reunión del jurado de la 42ª edición del certamen «Mejor Empresario del Año» de Valladolid. \nNuestra vinculación con estos galardones es máxima\, ya que el Colegio actúa como entidad patrocinadora de este certamen que reconoce la excelencia\, el esfuerzo y la innovación del tejido empresarial vallisoletano. La reunión del jurado tendrá lugar de 17:00 a 19:30 horas\, momento en el que se valorarán las candidaturas de un año especialmente relevante para el sector. \nCon este patrocinio y la participación activa en el jurado\, reafirmamos nuestro compromiso con el impulso económico de Valladolid y el apoyo a los líderes que transforman nuestra industria y sociedad.
URL:https://www.ingenierosvalladolid.es/actividad/el-colegio-presente-como-patrocinador-y-jurado-en-la-42a-edicion-del-mejor-empresario-del-ano/
CATEGORIES:Eventos Ingenieriles
ATTACH;FMTTYPE=image/png:https://www.ingenierosvalladolid.es/wp-content/uploads/2026/01/logo_ingenieros_valladolid_institucional_negativoR.png
END:VEVENT
END:VCALENDAR